BEGIN:VCALENDAR
VERSION:2.0
METHOD:PUBLISH
PRODID:Wuppertal-Live ICal v9.0 R38/39
BEGIN:VEVENT
CLASS:PUBLIC
DESCRIPTION:weitere Termininfos und Ticketbuchung unter https://www.wuppert
 al-live.de/ical/632846 
DTEND;TZID=Europe/Berlin:20260509T213000
DTSTAMP:20260422T201424Z
DTSTART;TZID=Europe/Berlin:20260509T193000
LOCATION:Internationales Begegnungszentrum der Caritas\, Hünefeldstr. 54a\
 , 42285 Wuppertal
PRIORITY:5
SEQUENCE:0
SUMMARY:Helga Schubert · Annette Hager -- Luft zum Leben
TRANSP:OPAQUE
UID:632846:www.wuppertal-live.de
URL:https://www.wuppertal-live.de/ical/632846
END:VEVENT
END:VCALENDAR
