BEGIN:VCALENDAR
VERSION:2.0
METHOD:PUBLISH
PRODID:Wuppertal-Live ICal v9.0 R38/39
BEGIN:VEVENT
CLASS:PUBLIC
DESCRIPTION:weitere Termininfos und Ticketbuchung unter https://www.wuppert
 al-live.de/ical/632845 
DTEND;TZID=Europe/Berlin:20260509T130000
DTSTAMP:20260422T201354Z
DTSTART;TZID=Europe/Berlin:20260509T110000
LOCATION:Stadtbibliothek Wuppertal - Zentralbibliothek\, Kolpingstr. 8\, 42
 103 Wuppertal
PRIORITY:5
SEQUENCE:0
SUMMARY:Sandra Weihs · Mladen Gladi&#263\; -- Er war stets bemüht
TRANSP:OPAQUE
UID:632845:www.wuppertal-live.de
URL:https://www.wuppertal-live.de/ical/632845
END:VEVENT
END:VCALENDAR
