BEGIN:VCALENDAR
VERSION:2.0
METHOD:PUBLISH
PRODID:Wuppertal-Live ICal v9.0 R38/39
BEGIN:VEVENT
CLASS:PUBLIC
DESCRIPTION:weitere Termininfos und Ticketbuchung unter https://www.wuppert
 al-live.de/ical/632844 
DTEND;TZID=Europe/Berlin:20260508T213000
DTSTAMP:20260422T201424Z
DTSTART;TZID=Europe/Berlin:20260508T193000
LOCATION:Kulturzentrum Immanuel - Immanuelskirche\, Sternstr. 73\, 42275 Wu
 ppertal
PRIORITY:5
SEQUENCE:0
SUMMARY:Navid Kermani · Verena Lueken -- Widersprüche der Gegenwart
TRANSP:OPAQUE
UID:632844:www.wuppertal-live.de
URL:https://www.wuppertal-live.de/ical/632844
END:VEVENT
END:VCALENDAR
