BEGIN:VCALENDAR
VERSION:2.0
METHOD:PUBLISH
PRODID:Wuppertal-Live ICal v9.0 R38/39
BEGIN:VEVENT
CLASS:PUBLIC
DESCRIPTION:weitere Termininfos unter https://www.wuppertal-live.de/ical/63
 2843 
DTEND;TZID=Europe/Berlin:20260507T203000
DTSTAMP:20260422T201422Z
DTSTART;TZID=Europe/Berlin:20260507T183000
LOCATION:Open Ground\, Alte Freiheit 25\, 42103 Wuppertal
PRIORITY:5
SEQUENCE:0
SUMMARY:Eröffnung der Wuppertaler Literatur Biennale 2026 · Lütfiye Güz
 el · Schauspiel Wuppertal · David J. Becher -- Wut bricht sich Bahn
TRANSP:OPAQUE
UID:632843:www.wuppertal-live.de
URL:https://www.wuppertal-live.de/ical/632843
END:VEVENT
END:VCALENDAR
