BEGIN:VCALENDAR
VERSION:2.0
METHOD:PUBLISH
PRODID:Wuppertal-Live ICal v9.0 R38/39
BEGIN:VEVENT
CLASS:PUBLIC
DESCRIPTION:weitere Termininfos unter https://www.wuppertal-live.de/ical/63
 2723 
DTEND;TZID=Europe/Berlin:20260705T160000
DTSTAMP:20260420T164836Z
DTSTART;TZID=Europe/Berlin:20260705T140000
LOCATION:Utopiastadt\, Mirker Str. 48\, 42105 Wuppertal
PRIORITY:5
SEQUENCE:0
SUMMARY:Mirker Matinée
TRANSP:OPAQUE
UID:632723:www.wuppertal-live.de
URL:https://www.wuppertal-live.de/ical/632723
END:VEVENT
END:VCALENDAR
