BEGIN:VCALENDAR
VERSION:2.0
METHOD:PUBLISH
PRODID:Wuppertal-Live ICal v9.0 R38/39
BEGIN:VEVENT
CLASS:PUBLIC
DESCRIPTION:weitere Termininfos unter https://www.wuppertal-live.de/ical/63
 2575 
DTEND;TZID=Europe/Berlin:20260525T233000
DTSTAMP:20260420T161827Z
DTSTART;TZID=Europe/Berlin:20260525T200000
LOCATION:Café ADA\, Wiesenstr. 6\, 42105 Wuppertal
PRIORITY:5
SEQUENCE:0
SUMMARY:Session Mai 1 -- Jazzsession - Music is an open Sky
TRANSP:OPAQUE
UID:632575:www.wuppertal-live.de
URL:https://www.wuppertal-live.de/ical/632575
END:VEVENT
END:VCALENDAR
