BEGIN:VCALENDAR
VERSION:2.0
METHOD:PUBLISH
PRODID:Wuppertal-Live ICal v9.0 R38/39
BEGIN:VEVENT
CLASS:PUBLIC
DESCRIPTION:weitere Termininfos und Ticketbuchung unter https://www.wuppert
 al-live.de/ical/632574 
DTEND;TZID=Europe/Berlin:20260426T220000
DTSTAMP:20260420T164702Z
DTSTART;TZID=Europe/Berlin:20260426T200000
LOCATION:Loch\, Plateniusstr. 35\, 42105 Wuppertal
PRIORITY:5
SEQUENCE:0
SUMMARY:Jan Kazda &amp\; Indigo Streichquartett -- Jan Kazda &amp\; Indigo 
 Streichquartett
TRANSP:OPAQUE
UID:632574:www.wuppertal-live.de
URL:https://www.wuppertal-live.de/ical/632574
END:VEVENT
END:VCALENDAR
