BEGIN:VCALENDAR
VERSION:2.0
METHOD:PUBLISH
PRODID:Wuppertal-Live ICal v9.0 R38/39
BEGIN:VEVENT
CLASS:PUBLIC
DESCRIPTION:weitere Termininfos und Ticketbuchung unter https://www.wuppert
 al-live.de/ical/632406 
DTEND;TZID=Europe/Berlin:20270122T213000
DTSTAMP:20260420T164744Z
DTSTART;TZID=Europe/Berlin:20270122T193000
LOCATION:INSEL\, Wiesenstr. 6\, 42105 Wuppertal
PRIORITY:5
SEQUENCE:0
SUMMARY:Markus Stockhausen · Jeroen van Vliet · Jörg Brinkmann · Christ
 ian Thomé -- Markus Stockhausen Group / Celebrations
TRANSP:OPAQUE
UID:632406:www.wuppertal-live.de
URL:https://www.wuppertal-live.de/ical/632406
END:VEVENT
END:VCALENDAR
