BEGIN:VCALENDAR
VERSION:2.0
METHOD:PUBLISH
PRODID:Wuppertal-Live ICal v9.0 R38/39
BEGIN:VEVENT
CLASS:PUBLIC
DESCRIPTION:weitere Termininfos unter https://www.wuppertal-live.de/ical/63
 2394 
DTEND;TZID=Europe/Berlin:20260502T220000
DTSTAMP:20260420T164826Z
DTSTART;TZID=Europe/Berlin:20260502T200000
LOCATION:Utopiastadt\, Mirker Str. 48\, 42105 Wuppertal
PRIORITY:5
SEQUENCE:0
SUMMARY:Xanky · DJ Superflix -- Only Hut - Xanky
TRANSP:OPAQUE
UID:632394:www.wuppertal-live.de
URL:https://www.wuppertal-live.de/ical/632394
END:VEVENT
END:VCALENDAR
