BEGIN:VCALENDAR
VERSION:2.0
METHOD:PUBLISH
PRODID:Wuppertal-Live ICal v9.0 R38/39
BEGIN:VEVENT
CLASS:PUBLIC
DESCRIPTION:weitere Termininfos und Ticketbuchung unter https://www.wuppert
 al-live.de/ical/632138 
DTEND;TZID=Europe/Berlin:20260515T213000
DTSTAMP:20260420T162210Z
DTSTART;TZID=Europe/Berlin:20260515T193000
LOCATION:INSEL\, Wiesenstr. 6\, 42105 Wuppertal
PRIORITY:5
SEQUENCE:0
SUMMARY:Anja Kampmann · Torsten Krug · Uta Atzpodien -- Die Wut ist ein h
 eller Stern / Literatur auf der Insel / Gast: Anja Kampmann
TRANSP:OPAQUE
UID:632138:www.wuppertal-live.de
URL:https://www.wuppertal-live.de/ical/632138
END:VEVENT
END:VCALENDAR
