BEGIN:VCALENDAR
VERSION:2.0
METHOD:PUBLISH
PRODID:Wuppertal-Live ICal v9.0 R38/39
BEGIN:VEVENT
CLASS:PUBLIC
DESCRIPTION:weitere Termininfos unter https://www.wuppertal-live.de/ical/63
 1979 
DTEND;TZID=Europe/Berlin:20260529T210000
DTSTAMP:20260420T164836Z
DTSTART;TZID=Europe/Berlin:20260529T190000
LOCATION:Otto-Böhne-Platz\, Otto-Böhne-Platz 1\, 42105 Wuppertal
PRIORITY:5
SEQUENCE:0
SUMMARY:Nie wieder ist jetzt! Singen statt Hetze und Hass
TRANSP:OPAQUE
UID:631979:www.wuppertal-live.de
URL:https://www.wuppertal-live.de/ical/631979
END:VEVENT
END:VCALENDAR
