BEGIN:VCALENDAR
VERSION:2.0
METHOD:PUBLISH
PRODID:Wuppertal-Live ICal v9.0 R38/39
BEGIN:VEVENT
CLASS:PUBLIC
DESCRIPTION:weitere Termininfos unter https://www.wuppertal-live.de/ical/63
 1951 
DTEND;TZID=Europe/Berlin:20260506T200000
DTSTAMP:20260420T175259Z
DTSTART;TZID=Europe/Berlin:20260506T160000
LOCATION:Begegnungszentrum am Arrenberg\, Arrenberger Str. 10\, 42117 Wuppe
 rtal
PRIORITY:5
SEQUENCE:0
SUMMARY:FrauenWut - Schrei(b) es raus!
TRANSP:OPAQUE
UID:631951:www.wuppertal-live.de
URL:https://www.wuppertal-live.de/ical/631951
END:VEVENT
END:VCALENDAR
