BEGIN:VCALENDAR
VERSION:2.0
METHOD:PUBLISH
PRODID:Wuppertal-Live ICal v9.0 R38/39
BEGIN:VEVENT
CLASS:PUBLIC
DESCRIPTION:weitere Termininfos und Ticketbuchung unter https://www.wuppert
 al-live.de/ical/631769 
DTEND;TZID=Europe/Berlin:20260503T200000
DTSTAMP:20260420T164826Z
DTSTART;TZID=Europe/Berlin:20260503T180000
LOCATION:INSEL\, Wiesenstr. 6\, 42105 Wuppertal
PRIORITY:5
SEQUENCE:0
SUMMARY:Sophia Oertel · Corentin Bezençon · Sira Pellicer Faus -- SoundS
 witch / Interaktives Improvisationskonzert im Lampenlicht
TRANSP:OPAQUE
UID:631769:www.wuppertal-live.de
URL:https://www.wuppertal-live.de/ical/631769
END:VEVENT
END:VCALENDAR
