BEGIN:VCALENDAR
VERSION:2.0
METHOD:PUBLISH
PRODID:Wuppertal-Live ICal v9.0 R38/39
BEGIN:VEVENT
CLASS:PUBLIC
DESCRIPTION:weitere Termininfos unter https://www.wuppertal-live.de/ical/63
 1301 
DTEND;TZID=Europe/Berlin:20260425T220000
DTSTAMP:20260420T164744Z
DTSTART;TZID=Europe/Berlin:20260425T200000
LOCATION:Loch\, Plateniusstr. 35\, 42105 Wuppertal
PRIORITY:5
SEQUENCE:0
SUMMARY:Listen (t)here #15 + OSE + groovHer + katonka + Pöbeljanina -- Off
 en:Bar / 2-Raum Edition
TRANSP:OPAQUE
UID:631301:www.wuppertal-live.de
URL:https://www.wuppertal-live.de/ical/631301
END:VEVENT
END:VCALENDAR
