BEGIN:VCALENDAR
VERSION:2.0
METHOD:PUBLISH
PRODID:Wuppertal-Live ICal v9.0 R38/39
BEGIN:VEVENT
CLASS:PUBLIC
DESCRIPTION:weitere Termininfos unter https://www.wuppertal-live.de/ical/63
 1300 
DTEND;TZID=Europe/Berlin:20260424T020000
DTSTAMP:20260420T164917Z
DTSTART;TZID=Europe/Berlin:20260424T210000
LOCATION:Loch\, Plateniusstr. 35\, 42105 Wuppertal
PRIORITY:5
SEQUENCE:0
SUMMARY:berg2berg (Bergen b2b Lichtenberg) -- Offen:Bar
TRANSP:OPAQUE
UID:631300:www.wuppertal-live.de
URL:https://www.wuppertal-live.de/ical/631300
END:VEVENT
END:VCALENDAR
