BEGIN:VCALENDAR
VERSION:2.0
METHOD:PUBLISH
PRODID:Wuppertal-Live ICal v9.0 R38/39
BEGIN:VEVENT
CLASS:PUBLIC
DESCRIPTION:weitere Termininfos unter https://www.wuppertal-live.de/ical/63
 1299 
DTEND;TZID=Europe/Berlin:20260422T213000
DTSTAMP:20260420T164929Z
DTSTART;TZID=Europe/Berlin:20260422T193000
LOCATION:Loch\, Plateniusstr. 35\, 42105 Wuppertal
PRIORITY:5
SEQUENCE:0
SUMMARY:Offen:Bar / Quizabend
TRANSP:OPAQUE
UID:631299:www.wuppertal-live.de
URL:https://www.wuppertal-live.de/ical/631299
END:VEVENT
END:VCALENDAR
