BEGIN:VCALENDAR
VERSION:2.0
METHOD:PUBLISH
PRODID:Wuppertal-Live ICal v9.0 R38/39
BEGIN:VEVENT
CLASS:PUBLIC
DESCRIPTION:weitere Termininfos und Ticketbuchung unter https://www.wuppert
 al-live.de/ical/631294 
DTEND;TZID=Europe/Berlin:20260925T213000
DTSTAMP:20260420T162250Z
DTSTART;TZID=Europe/Berlin:20260925T193000
LOCATION:INSEL\, Wiesenstr. 6\, 42105 Wuppertal
PRIORITY:5
SEQUENCE:0
SUMMARY:Denis Pfabe · Torsten Krug · Uta Atzpodien -- Literatur auf der I
 nsel / Gast: Denis Pfabe
TRANSP:OPAQUE
UID:631294:www.wuppertal-live.de
URL:https://www.wuppertal-live.de/ical/631294
END:VEVENT
END:VCALENDAR
