BEGIN:VCALENDAR
VERSION:2.0
METHOD:PUBLISH
PRODID:Wuppertal-Live ICal v9.0 R38/39
BEGIN:VEVENT
CLASS:PUBLIC
DESCRIPTION:weitere Termininfos unter https://www.wuppertal-live.de/ical/63
 1252 
DTEND;TZID=Europe/Berlin:20260704T180000
DTSTAMP:20260420T162200Z
DTSTART;TZID=Europe/Berlin:20260704T150000
LOCATION:INSEL\, Wiesenstr. 6\, 42105 Wuppertal
PRIORITY:5
SEQUENCE:0
SUMMARY:Anja Richter -- Gypsy Tanz
TRANSP:OPAQUE
UID:631252:www.wuppertal-live.de
URL:https://www.wuppertal-live.de/ical/631252
END:VEVENT
END:VCALENDAR
