BEGIN:VCALENDAR
VERSION:2.0
METHOD:PUBLISH
PRODID:Wuppertal-Live ICal v9.0 R38/39
BEGIN:VEVENT
CLASS:PUBLIC
DESCRIPTION:weitere Termininfos unter https://www.wuppertal-live.de/ical/63
 0949 
DTEND;TZID=Europe/Berlin:20260617T200000
DTSTAMP:20260420T162210Z
DTSTART;TZID=Europe/Berlin:20260617T180000
LOCATION:Café ADA\, Wiesenstr. 6\, 42105 Wuppertal
PRIORITY:5
SEQUENCE:0
SUMMARY:Salsa
TRANSP:OPAQUE
UID:630949:www.wuppertal-live.de
URL:https://www.wuppertal-live.de/ical/630949
END:VEVENT
END:VCALENDAR
