BEGIN:VCALENDAR
VERSION:2.0
METHOD:PUBLISH
PRODID:Wuppertal-Live ICal v9.0 R38/39
BEGIN:VEVENT
CLASS:PUBLIC
DESCRIPTION:weitere Termininfos und Ticketbuchung unter https://www.wuppert
 al-live.de/ical/630103 
DTEND;TZID=Europe/Berlin:20260509T213000
DTSTAMP:20260420T164729Z
DTSTART;TZID=Europe/Berlin:20260509T193000
LOCATION:INSEL\, Wiesenstr. 6\, 42105 Wuppertal
PRIORITY:5
SEQUENCE:0
SUMMARY:Francesco Vecchione · Maria Anzivino · Sophia Otto · Antonio Tel
 lo · Julio Escobar -- The Silent Waltz of Shadows
TRANSP:OPAQUE
UID:630103:www.wuppertal-live.de
URL:https://www.wuppertal-live.de/ical/630103
END:VEVENT
END:VCALENDAR
