BEGIN:VCALENDAR
VERSION:2.0
METHOD:PUBLISH
PRODID:Wuppertal-Live ICal v9.0 R38/39
BEGIN:VEVENT
CLASS:PUBLIC
DESCRIPTION:weitere Termininfos und Ticketbuchung unter https://www.wuppert
 al-live.de/ical/629063 
DTEND;TZID=Europe/Berlin:20260920T193000
DTSTAMP:20260420T162103Z
DTSTART;TZID=Europe/Berlin:20260920T170000
LOCATION:TalTonTHEATER\, Wiesenstr. 118\, 42105 Wuppertal
PRIORITY:5
SEQUENCE:0
SUMMARY:TTT · Golden Girls - Kunst der Travestie -- "Glanzvolle Augenblick
 e"
TRANSP:OPAQUE
UID:629063:www.wuppertal-live.de
URL:https://www.wuppertal-live.de/ical/629063
END:VEVENT
END:VCALENDAR
