BEGIN:VCALENDAR
VERSION:2.0
METHOD:PUBLISH
PRODID:Wuppertal-Live ICal v9.0 R38/39
BEGIN:VEVENT
CLASS:PUBLIC
DESCRIPTION:weitere Termininfos und Ticketbuchung unter https://www.wuppert
 al-live.de/ical/628712 
DTEND;TZID=Europe/Berlin:20260426T000000
DTSTAMP:20260419T205635Z
DTSTART;TZID=Europe/Berlin:20260425T220000
LOCATION:die börse\, Wolkenburg 100\, 42119 Wuppertal
PRIORITY:5
SEQUENCE:0
SUMMARY:Sporti-Party: Jersey Night - Das Semester Opening
TRANSP:OPAQUE
UID:628712:www.wuppertal-live.de
URL:https://www.wuppertal-live.de/ical/628712
END:VEVENT
END:VCALENDAR
