BEGIN:VCALENDAR
VERSION:2.0
METHOD:PUBLISH
PRODID:Wuppertal-Live ICal v9.0 R38/39
BEGIN:VEVENT
CLASS:PUBLIC
DESCRIPTION:weitere Termininfos unter https://www.wuppertal-live.de/ical/62
 8695 
DTEND;TZID=Europe/Berlin:20260618T210000
DTSTAMP:20260420T162118Z
DTSTART;TZID=Europe/Berlin:20260618T170000
LOCATION:Ölberg\, Marienstr. -\, 42105 Wuppertal
PRIORITY:5
SEQUENCE:0
SUMMARY:Kunstkiez auf dem Ölberg!
TRANSP:OPAQUE
UID:628695:www.wuppertal-live.de
URL:https://www.wuppertal-live.de/ical/628695
END:VEVENT
END:VCALENDAR
