BEGIN:VCALENDAR
VERSION:2.0
METHOD:PUBLISH
PRODID:Wuppertal-Live ICal v9.0 R38/39
BEGIN:VEVENT
CLASS:PUBLIC
DESCRIPTION:weitere Termininfos und Ticketbuchung unter https://www.wuppert
 al-live.de/ical/628689 
DTEND;TZID=Europe/Berlin:20270610T213000
DTSTAMP:20260420T162035Z
DTSTART;TZID=Europe/Berlin:20270610T193000
LOCATION:INSEL\, Wiesenstr. 6\, 42105 Wuppertal
PRIORITY:5
SEQUENCE:0
SUMMARY:Matheus Donato · Darcy Gomes · Mauricio Melo -- Klangkosmos NRW /
  Matheus Donato Trio (Brasilien)
TRANSP:OPAQUE
UID:628689:www.wuppertal-live.de
URL:https://www.wuppertal-live.de/ical/628689
END:VEVENT
END:VCALENDAR
