BEGIN:VCALENDAR
VERSION:2.0
METHOD:PUBLISH
PRODID:Wuppertal-Live ICal v9.0 R38/39
BEGIN:VEVENT
CLASS:PUBLIC
DESCRIPTION:weitere Termininfos und Ticketbuchung unter https://www.wuppert
 al-live.de/ical/628688 
DTEND;TZID=Europe/Berlin:20270415T213000
DTSTAMP:20260420T162103Z
DTSTART;TZID=Europe/Berlin:20270415T193000
LOCATION:INSEL\, Wiesenstr. 6\, 42105 Wuppertal
PRIORITY:5
SEQUENCE:0
SUMMARY:Maria Elena Pacheco · Ernesto Hermoza -- Klangkosmos NRW / Ernesto
  Hermoza y Maria Elena Pacheco (Peru)
TRANSP:OPAQUE
UID:628688:www.wuppertal-live.de
URL:https://www.wuppertal-live.de/ical/628688
END:VEVENT
END:VCALENDAR
