BEGIN:VCALENDAR
VERSION:2.0
METHOD:PUBLISH
PRODID:Wuppertal-Live ICal v9.0 R38/39
BEGIN:VEVENT
CLASS:PUBLIC
DESCRIPTION:weitere Termininfos und Ticketbuchung unter https://www.wuppert
 al-live.de/ical/628686 
DTEND;TZID=Europe/Berlin:20270318T213000
DTSTAMP:20260420T162036Z
DTSTART;TZID=Europe/Berlin:20270318T193000
LOCATION:INSEL\, Wiesenstr. 6\, 42105 Wuppertal
PRIORITY:5
SEQUENCE:0
SUMMARY:Mamy Kanouté · Bao Sissoko · Wouter Vandenabeele · Oumar Sall -
 - Klangkosmos NRW / Mamy Kanouté Ensemble (Senegal)
TRANSP:OPAQUE
UID:628686:www.wuppertal-live.de
URL:https://www.wuppertal-live.de/ical/628686
END:VEVENT
END:VCALENDAR
