BEGIN:VCALENDAR
VERSION:2.0
METHOD:PUBLISH
PRODID:Wuppertal-Live ICal v9.0 R38/39
BEGIN:VEVENT
CLASS:PUBLIC
DESCRIPTION:weitere Termininfos und Ticketbuchung unter https://www.wuppert
 al-live.de/ical/628684 
DTEND;TZID=Europe/Berlin:20270225T213000
DTSTAMP:20260420T162036Z
DTSTART;TZID=Europe/Berlin:20270225T193000
LOCATION:INSEL\, Wiesenstr. 6\, 42105 Wuppertal
PRIORITY:5
SEQUENCE:0
SUMMARY:Lavinia Mancusi · Mauro Menegazzi -- Klangkosmos NRW / Lavinia Man
 cusi Duo (Italien)
TRANSP:OPAQUE
UID:628684:www.wuppertal-live.de
URL:https://www.wuppertal-live.de/ical/628684
END:VEVENT
END:VCALENDAR
