BEGIN:VCALENDAR
VERSION:2.0
METHOD:PUBLISH
PRODID:Wuppertal-Live ICal v9.0 R38/39
BEGIN:VEVENT
CLASS:PUBLIC
DESCRIPTION:weitere Termininfos und Ticketbuchung unter https://www.wuppert
 al-live.de/ical/628683 
DTEND;TZID=Europe/Berlin:20270121T213000
DTSTAMP:20260420T162036Z
DTSTART;TZID=Europe/Berlin:20270121T193000
LOCATION:INSEL\, Wiesenstr. 6\, 42105 Wuppertal
PRIORITY:5
SEQUENCE:0
SUMMARY:Daniel Maamytov · Dastan Birimkulov · Azat Bazarbekov · Kasiyet 
 Niyazbekova · Dinara Talantbekova · Daniyar Abylabek uulu -- Klangkosmos
  NRW / Kerbez (Kirgisistan)
TRANSP:OPAQUE
UID:628683:www.wuppertal-live.de
URL:https://www.wuppertal-live.de/ical/628683
END:VEVENT
END:VCALENDAR
