BEGIN:VCALENDAR
VERSION:2.0
METHOD:PUBLISH
PRODID:Wuppertal-Live ICal v9.0 R38/39
BEGIN:VEVENT
CLASS:PUBLIC
DESCRIPTION:weitere Termininfos und Ticketbuchung unter https://www.wuppert
 al-live.de/ical/628680 
DTEND;TZID=Europe/Berlin:20261112T213000
DTSTAMP:20260420T162102Z
DTSTART;TZID=Europe/Berlin:20261112T193000
LOCATION:INSEL\, Wiesenstr. 6\, 42105 Wuppertal
PRIORITY:5
SEQUENCE:0
SUMMARY:Damien Toumi Â· MÃ nu ThÃ©ron -- Klangkosmos NRW / DuÃ² LavoÃ  LapÃ
 ² (Frankreich)
TRANSP:OPAQUE
UID:628680:www.wuppertal-live.de
URL:https://www.wuppertal-live.de/ical/628680
END:VEVENT
END:VCALENDAR
