BEGIN:VCALENDAR
VERSION:2.0
METHOD:PUBLISH
PRODID:Wuppertal-Live ICal v9.0 R38/39
BEGIN:VEVENT
CLASS:PUBLIC
DESCRIPTION:weitere Termininfos und Ticketbuchung unter https://www.wuppert
 al-live.de/ical/628678 
DTEND;TZID=Europe/Berlin:20261015T213000
DTSTAMP:20260420T164729Z
DTSTART;TZID=Europe/Berlin:20261015T193000
LOCATION:INSEL\, Wiesenstr. 6\, 42105 Wuppertal
PRIORITY:5
SEQUENCE:0
SUMMARY:Ahmad Selawy · Mohammad Al-Qattanani "Hamboz" -- Klangkosmos NRW /
  Selawy &amp\; Hamboz (Jordanien)
TRANSP:OPAQUE
UID:628678:www.wuppertal-live.de
URL:https://www.wuppertal-live.de/ical/628678
END:VEVENT
END:VCALENDAR
