BEGIN:VCALENDAR
VERSION:2.0
METHOD:PUBLISH
PRODID:Wuppertal-Live ICal v9.0 R38/39
BEGIN:VEVENT
CLASS:PUBLIC
DESCRIPTION:weitere Termininfos unter https://www.wuppertal-live.de/ical/62
 8479 
DTEND;TZID=Europe/Berlin:20260520T210000
DTSTAMP:20260420T164729Z
DTSTART;TZID=Europe/Berlin:20260520T190000
LOCATION:Begegnungsstätte Alte Synagoge\, Genügsamkeitstr. \, 42103 Wuppe
 rtal
PRIORITY:5
SEQUENCE:0
SUMMARY:Gisela &amp\; Alfred Andersch - Kunst &amp\; Liebe in der Nachkrieg
 szeit
TRANSP:OPAQUE
UID:628479:www.wuppertal-live.de
URL:https://www.wuppertal-live.de/ical/628479
END:VEVENT
END:VCALENDAR
