BEGIN:VCALENDAR
VERSION:2.0
METHOD:PUBLISH
PRODID:Wuppertal-Live ICal v9.0 R38/39
BEGIN:VEVENT
CLASS:PUBLIC
DESCRIPTION:weitere Termininfos unter https://www.wuppertal-live.de/ical/62
 8367 
DTEND;TZID=Europe/Berlin:20260603T200000
DTSTAMP:20260420T162036Z
DTSTART;TZID=Europe/Berlin:20260603T180000
LOCATION:Café ADA\, Wiesenstr. 6\, 42105 Wuppertal
PRIORITY:5
SEQUENCE:0
SUMMARY:Salsa
TRANSP:OPAQUE
UID:628367:www.wuppertal-live.de
URL:https://www.wuppertal-live.de/ical/628367
END:VEVENT
END:VCALENDAR
