BEGIN:VCALENDAR
VERSION:2.0
METHOD:PUBLISH
PRODID:Wuppertal-Live ICal v9.0 R38/39
BEGIN:VEVENT
CLASS:PUBLIC
DESCRIPTION:weitere Termininfos unter https://www.wuppertal-live.de/ical/62
 8159 
DTEND;TZID=Europe/Berlin:20260420T000200
DTSTAMP:20260420T164702Z
DTSTART;TZID=Europe/Berlin:20260420T000100
LOCATION:Café ADA\, Wiesenstr. 6\, 42105 Wuppertal
PRIORITY:5
SEQUENCE:0
SUMMARY:Lars van Keuk · Brit vom Stein -- DoubleVision
TRANSP:OPAQUE
UID:628159:www.wuppertal-live.de
URL:https://www.wuppertal-live.de/ical/628159
END:VEVENT
END:VCALENDAR
