BEGIN:VCALENDAR
VERSION:2.0
METHOD:PUBLISH
PRODID:Wuppertal-Live ICal v9.0 R38/39
BEGIN:VEVENT
CLASS:PUBLIC
DESCRIPTION:weitere Termininfos unter https://www.wuppertal-live.de/ical/62
 8100 
DTEND;TZID=Europe/Berlin:20260620T160000
DTSTAMP:20260420T143912Z
DTSTART;TZID=Europe/Berlin:20260620T140000
LOCATION:Stadion am Zoo\, Hubertusallee 4\, 42117 Wuppertal
PRIORITY:5
SEQUENCE:0
SUMMARY:Mega-Kirmes
TRANSP:OPAQUE
UID:628100:www.wuppertal-live.de
URL:https://www.wuppertal-live.de/ical/628100
END:VEVENT
END:VCALENDAR
