BEGIN:VCALENDAR
VERSION:2.0
METHOD:PUBLISH
PRODID:Wuppertal-Live ICal v9.0 R38/39
BEGIN:VEVENT
CLASS:PUBLIC
DESCRIPTION:weitere Termininfos und Ticketbuchung unter https://www.wuppert
 al-live.de/ical/627956 
DTEND;TZID=Europe/Berlin:20261127T213000
DTSTAMP:20260420T164836Z
DTSTART;TZID=Europe/Berlin:20261127T193000
LOCATION:INSEL\, Wiesenstr. 6\, 42105 Wuppertal
PRIORITY:5
SEQUENCE:0
SUMMARY:Filippa Gojo · Stephan Mattner -- Filippa Gojo / Stephan Mattner /
 / Nucleus
TRANSP:OPAQUE
UID:627956:www.wuppertal-live.de
URL:https://www.wuppertal-live.de/ical/627956
END:VEVENT
END:VCALENDAR
