BEGIN:VCALENDAR
VERSION:2.0
METHOD:PUBLISH
PRODID:Wuppertal-Live ICal v9.0 R38/39
BEGIN:VEVENT
CLASS:PUBLIC
DESCRIPTION:weitere Termininfos und Ticketbuchung unter https://www.wuppert
 al-live.de/ical/625735 
DTEND;TZID=Europe/Berlin:20260426T200000
DTSTAMP:20260419T131752Z
DTSTART;TZID=Europe/Berlin:20260426T180000
LOCATION:Historische Stadthalle Wuppertal\, Johannisberg 40\, 42103 Wuppert
 al
PRIORITY:5
SEQUENCE:0
SUMMARY:Vladimir Burkhardt · Jörg Hammerschmidt -- Singen. Swingen. Lache
 n.
TRANSP:OPAQUE
UID:625735:www.wuppertal-live.de
URL:https://www.wuppertal-live.de/ical/625735
END:VEVENT
END:VCALENDAR
