BEGIN:VCALENDAR
VERSION:2.0
METHOD:PUBLISH
PRODID:Wuppertal-Live ICal v9.0 R38/39
BEGIN:VEVENT
CLASS:PUBLIC
DESCRIPTION:weitere Termininfos und Ticketbuchung unter https://www.wuppert
 al-live.de/ical/624497 
DTEND;TZID=Europe/Berlin:20261105T220000
DTSTAMP:20260421T121825Z
DTSTART;TZID=Europe/Berlin:20261105T200000
LOCATION:Glücksbuchladen\, Friedrichstr. 52\, 42105 Wuppertal
PRIORITY:5
SEQUENCE:0
SUMMARY:Petra Berghaus -- "Ich tröste dich" - Abschiedsgeschichten\, so bu
 nt wie das Leben mit Petra Berghaus
TRANSP:OPAQUE
UID:624497:www.wuppertal-live.de
URL:https://www.wuppertal-live.de/ical/624497
END:VEVENT
END:VCALENDAR
