BEGIN:VCALENDAR
VERSION:2.0
METHOD:PUBLISH
PRODID:Wuppertal-Live ICal v9.0 R38/39
BEGIN:VEVENT
CLASS:PUBLIC
DESCRIPTION:weitere Termininfos und Ticketbuchung unter https://www.wuppert
 al-live.de/ical/622247 
DTEND;TZID=Europe/Berlin:20270110T214500
DTSTAMP:20260420T162159Z
DTSTART;TZID=Europe/Berlin:20270110T180000
LOCATION:TalTonTHEATER\, Wiesenstr. 118\, 42105 Wuppertal
PRIORITY:5
SEQUENCE:0
SUMMARY:TTT -- Die Piraten der Sparrow - 19.500 Meilen unter dem Meer
TRANSP:OPAQUE
UID:622247:www.wuppertal-live.de
URL:https://www.wuppertal-live.de/ical/622247
END:VEVENT
END:VCALENDAR
