BEGIN:VCALENDAR
VERSION:2.0
METHOD:PUBLISH
PRODID:Wuppertal-Live ICal v9.0 R38/39
BEGIN:VEVENT
CLASS:PUBLIC
DESCRIPTION:weitere Termininfos unter https://www.neanderticket.de/ical/622
 057 
DTEND;TZID=Europe/Berlin:20260501T200000
DTSTAMP:20260425T170339Z
DTSTART;TZID=Europe/Berlin:20260501T180000
LOCATION:Stellarium Erkrath / Sternwarte Neanderhöhe Hochdahl\, Sedentaler
  Str. 105\, 40699 Erkrath
PRIORITY:5
SEQUENCE:0
SUMMARY:Kosmische Wundertüte
TRANSP:OPAQUE
UID:622057:www.neanderticket.de
URL:https://www.neanderticket.de/ical/622057
END:VEVENT
END:VCALENDAR
