BEGIN:VCALENDAR
VERSION:2.0
METHOD:PUBLISH
PRODID:Wuppertal-Live ICal v9.0 R38/39
BEGIN:VEVENT
CLASS:PUBLIC
DESCRIPTION:weitere Termininfos unter https://www.neanderticket.de/ical/619
 147 
DTEND;TZID=Europe/Berlin:20260523T160000
DTSTAMP:20260419T133845Z
DTSTART;TZID=Europe/Berlin:20260523T140000
LOCATION:Zeittunnel\, Hammerstein 5\, 42489 Wülfrath
PRIORITY:5
SEQUENCE:0
SUMMARY:Patrick Kosog -- Ausstellung "Kunst verbindet Wülfrath und Alsfeld
 " mit dem Haupttitel "Gebäude und ihre Architekturen"
TRANSP:OPAQUE
UID:619147:www.neanderticket.de
URL:https://www.neanderticket.de/ical/619147
END:VEVENT
END:VCALENDAR
