BEGIN:VCALENDAR
VERSION:2.0
METHOD:PUBLISH
PRODID:Wuppertal-Live ICal v9.0 R38/39
BEGIN:VEVENT
CLASS:PUBLIC
DESCRIPTION:weitere Termininfos und Ticketbuchung unter https://www.wuppert
 al-live.de/ical/618357 
DTEND;TZID=Europe/Berlin:20260619T220000
DTSTAMP:20260420T081906Z
DTSTART;TZID=Europe/Berlin:20260619T200000
LOCATION:die börse\, Wolkenburg 100\, 42119 Wuppertal
PRIORITY:5
SEQUENCE:0
SUMMARY:Christine Prayon -- Abschiedstour
TRANSP:OPAQUE
UID:618357:www.wuppertal-live.de
URL:https://www.wuppertal-live.de/ical/618357
END:VEVENT
END:VCALENDAR
