BEGIN:VCALENDAR
VERSION:2.0
METHOD:PUBLISH
PRODID:Wuppertal-Live ICal v9.0 R38/39
BEGIN:VEVENT
CLASS:PUBLIC
DESCRIPTION:weitere Termininfos und Ticketbuchung unter https://www.wuppert
 al-live.de/ical/615886 
DTEND;TZID=Europe/Berlin:20260430T230000
DTSTAMP:20260420T084638Z
DTSTART;TZID=Europe/Berlin:20260430T210000
LOCATION:Wuppertaler Brauhaus\, Kleine Flurstr. 5\, 42275 Wuppertal
PRIORITY:5
SEQUENCE:0
SUMMARY:Tanz in den Mai 2026
TRANSP:OPAQUE
UID:615886:www.wuppertal-live.de
URL:https://www.wuppertal-live.de/ical/615886
END:VEVENT
END:VCALENDAR
