BEGIN:VCALENDAR
VERSION:2.0
METHOD:PUBLISH
PRODID:Wuppertal-Live ICal v9.0 R38/39
BEGIN:VEVENT
CLASS:PUBLIC
DESCRIPTION:weitere Termininfos unter https://www.wuppertal-live.de/ical/61
 4098 
DTEND;TZID=Europe/Berlin:20260627T153000
DTSTAMP:20260421T162100Z
DTSTART;TZID=Europe/Berlin:20260627T060000
LOCATION:Flohmarkt Vohwinkeler Straße\, Vohwinkeler Str. 121\, 42329 Wuppe
 rtal
PRIORITY:5
SEQUENCE:0
SUMMARY:Samstagsflohmarkt in Vohwinkel
TRANSP:OPAQUE
UID:614098:www.wuppertal-live.de
URL:https://www.wuppertal-live.de/ical/614098
END:VEVENT
END:VCALENDAR
