BEGIN:VCALENDAR
VERSION:2.0
METHOD:PUBLISH
PRODID:Wuppertal-Live ICal v9.0 R38/39
BEGIN:VEVENT
CLASS:PUBLIC
DESCRIPTION:weitere Termininfos und Ticketbuchung unter https://www.wuppert
 al-live.de/ical/602392 
DTEND;TZID=Europe/Berlin:20260509T220000
DTSTAMP:20260423T091930Z
DTSTART;TZID=Europe/Berlin:20260509T200000
LOCATION:die börse\, Wolkenburg 100\, 42119 Wuppertal
PRIORITY:5
SEQUENCE:0
SUMMARY:Schrottgrenze -- 20 Jahre Château Schrottgrenze
TRANSP:OPAQUE
UID:602392:www.wuppertal-live.de
URL:https://www.wuppertal-live.de/ical/602392
END:VEVENT
END:VCALENDAR
