BEGIN:VCALENDAR
VERSION:2.0
METHOD:PUBLISH
PRODID:Wuppertal-Live ICal v9.0 R38/39
BEGIN:VEVENT
CLASS:PUBLIC
DESCRIPTION:weitere Termininfos und Ticketbuchung unter https://www.wuppert
 al-live.de/ical/592527 
DTEND;TZID=Europe/Berlin:20260430T230000
DTSTAMP:20260424T083528Z
DTSTART;TZID=Europe/Berlin:20260430T210000
LOCATION:LCB - Haus der Jugend Barmen\, Geschwister-Scholl-Platz 4-6\, 4227
 5 Wuppertal
PRIORITY:5
SEQUENCE:0
SUMMARY:Royal Street Orchestra -- Tanz in den Mai - Happy Birthday RSO
TRANSP:OPAQUE
UID:592527:www.wuppertal-live.de
URL:https://www.wuppertal-live.de/ical/592527
END:VEVENT
END:VCALENDAR
